BEGIN:VCALENDAR
VERSION:2.0
PRODID:-//Мајине Пчелице - ECPv6.15.11//NONSGML v1.0//EN
CALSCALE:GREGORIAN
METHOD:PUBLISH
X-ORIGINAL-URL:https://majinepcelice.info
X-WR-CALDESC:Events for Мајине Пчелице
REFRESH-INTERVAL;VALUE=DURATION:PT1H
X-Robots-Tag:noindex
X-PUBLISHED-TTL:PT1H
BEGIN:VTIMEZONE
TZID:Europe/Belgrade
BEGIN:DAYLIGHT
TZOFFSETFROM:+0100
TZOFFSETTO:+0200
TZNAME:CEST
DTSTART:20170326T010000
END:DAYLIGHT
BEGIN:STANDARD
TZOFFSETFROM:+0200
TZOFFSETTO:+0100
TZNAME:CET
DTSTART:20171029T010000
END:STANDARD
BEGIN:DAYLIGHT
TZOFFSETFROM:+0100
TZOFFSETTO:+0200
TZNAME:CEST
DTSTART:20180325T010000
END:DAYLIGHT
BEGIN:STANDARD
TZOFFSETFROM:+0200
TZOFFSETTO:+0100
TZNAME:CET
DTSTART:20181028T010000
END:STANDARD
BEGIN:DAYLIGHT
TZOFFSETFROM:+0100
TZOFFSETTO:+0200
TZNAME:CEST
DTSTART:20190331T010000
END:DAYLIGHT
BEGIN:STANDARD
TZOFFSETFROM:+0200
TZOFFSETTO:+0100
TZNAME:CET
DTSTART:20191027T010000
END:STANDARD
BEGIN:DAYLIGHT
TZOFFSETFROM:+0100
TZOFFSETTO:+0200
TZNAME:CEST
DTSTART:20200329T010000
END:DAYLIGHT
BEGIN:STANDARD
TZOFFSETFROM:+0200
TZOFFSETTO:+0100
TZNAME:CET
DTSTART:20201025T010000
END:STANDARD
BEGIN:DAYLIGHT
TZOFFSETFROM:+0100
TZOFFSETTO:+0200
TZNAME:CEST
DTSTART:20210328T010000
END:DAYLIGHT
BEGIN:STANDARD
TZOFFSETFROM:+0200
TZOFFSETTO:+0100
TZNAME:CET
DTSTART:20211031T010000
END:STANDARD
BEGIN:DAYLIGHT
TZOFFSETFROM:+0100
TZOFFSETTO:+0200
TZNAME:CEST
DTSTART:20220327T010000
END:DAYLIGHT
BEGIN:STANDARD
TZOFFSETFROM:+0200
TZOFFSETTO:+0100
TZNAME:CET
DTSTART:20221030T010000
END:STANDARD
END:VTIMEZONE
BEGIN:VEVENT
DTSTART;TZID=Europe/Belgrade:20200928T080000
DTEND;TZID=Europe/Belgrade:20210928T083000
DTSTAMP:20260423T201700
CREATED:20210125T083508Z
LAST-MODIFIED:20210125T083508Z
UID:4248-1601280000-1632817800@majinepcelice.info
SUMMARY:Математика - контролни задатак
DESCRIPTION:Линија и област
URL:https://majinepcelice.info/event/matematika-kontrolni-zadatak/
CATEGORIES:Активности
ATTACH;FMTTYPE=image/png:https://majinepcelice.info/wp-content/uploads/2018/03/kids-bg-small.png
END:VEVENT
BEGIN:VEVENT
DTSTART;TZID=Europe/Belgrade:20200915T080000
DTEND;TZID=Europe/Belgrade:20200915T083000
DTSTAMP:20260423T201700
CREATED:20210125T082944Z
LAST-MODIFIED:20210125T083048Z
UID:4244-1600156800-1600158600@majinepcelice.info
SUMMARY:Математика - контролни
DESCRIPTION:Предмети у простору и односи међу њима
URL:https://majinepcelice.info/event/matematika-kontrolni/
CATEGORIES:Активности
ATTACH;FMTTYPE=image/png:https://majinepcelice.info/wp-content/uploads/2018/03/kids-bg-small.png
END:VEVENT
BEGIN:VEVENT
DTSTART;VALUE=DATE:20180531
DTEND;VALUE=DATE:20180601
DTSTAMP:20260423T201700
CREATED:20180530T135644Z
LAST-MODIFIED:20180530T135727Z
UID:1066-1527724800-1527811199@majinepcelice.info
SUMMARY:Повратак са Златара - 31.05.2018 око 17:30 часова
DESCRIPTION:У четвртак\, 31.5.2018 у 13 часова крећемо са Златара за Београд.  \nУ Београду смо око 17:30 часова.
URL:https://majinepcelice.info/event/povratak-sa-zlatara-31-05-2018-oko-1730-casova/
CATEGORIES:Активности,Друго
ATTACH;FMTTYPE=image/png:https://majinepcelice.info/wp-content/uploads/2018/03/kids-bg-small.png
ORGANIZER;CN="%D0%A3%D1%87%D0%B8%D1%82%D0%B5%D1%99%D0%B8%D1%86%D0%B0 %D0%9C%D0%B0%D1%98%D0%B0 %D0%94%D0%B8%D0%BD%D0%B8%D1%9B":MAILTO:majadinic112@gmail.com
END:VEVENT
BEGIN:VEVENT
DTSTART;TZID=Europe/Belgrade:20180418T120000
DTEND;TZID=Europe/Belgrade:20180418T170000
DTSTAMP:20260423T201700
CREATED:20180413T101733Z
LAST-MODIFIED:20180413T101733Z
UID:939-1524052800-1524070800@majinepcelice.info
SUMMARY:Свечана академија проглашења резултата конкурса "Божидар Тимотијевић"
DESCRIPTION:Свечана академија проглашења резултата конкурса “Божидар Тимотијевић” одржаће се 18.04.2018. у Центру за културу и образовање Раковица у 12 часова. Ученици наше школе који су заступљени у зборнику “Велики одмор” су: \nЛука Лазовић 2/2\nАнђела Пјевић 2/2\nЛара Грандић 2/2
URL:https://majinepcelice.info/event/svecana-akademija-proglasenja-rezultata-konkursa-bozidar-timotijevic/
CATEGORIES:Активности,Приредбе
ATTACH;FMTTYPE=image/png:https://majinepcelice.info/wp-content/uploads/2018/03/kids-bg-small.png
END:VEVENT
END:VCALENDAR