BEGIN:VCALENDAR
VERSION:2.0
PRODID:-//Мајине Пчелице - ECPv6.15.11//NONSGML v1.0//EN
CALSCALE:GREGORIAN
METHOD:PUBLISH
X-ORIGINAL-URL:https://majinepcelice.info
X-WR-CALDESC:Events for Мајине Пчелице
REFRESH-INTERVAL;VALUE=DURATION:PT1H
X-Robots-Tag:noindex
X-PUBLISHED-TTL:PT1H
BEGIN:VTIMEZONE
TZID:Europe/Belgrade
BEGIN:DAYLIGHT
TZOFFSETFROM:+0100
TZOFFSETTO:+0200
TZNAME:CEST
DTSTART:20180325T010000
END:DAYLIGHT
BEGIN:STANDARD
TZOFFSETFROM:+0200
TZOFFSETTO:+0100
TZNAME:CET
DTSTART:20181028T010000
END:STANDARD
BEGIN:DAYLIGHT
TZOFFSETFROM:+0100
TZOFFSETTO:+0200
TZNAME:CEST
DTSTART:20190331T010000
END:DAYLIGHT
BEGIN:STANDARD
TZOFFSETFROM:+0200
TZOFFSETTO:+0100
TZNAME:CET
DTSTART:20191027T010000
END:STANDARD
BEGIN:DAYLIGHT
TZOFFSETFROM:+0100
TZOFFSETTO:+0200
TZNAME:CEST
DTSTART:20200329T010000
END:DAYLIGHT
BEGIN:STANDARD
TZOFFSETFROM:+0200
TZOFFSETTO:+0100
TZNAME:CET
DTSTART:20201025T010000
END:STANDARD
BEGIN:DAYLIGHT
TZOFFSETFROM:+0100
TZOFFSETTO:+0200
TZNAME:CEST
DTSTART:20210328T010000
END:DAYLIGHT
BEGIN:STANDARD
TZOFFSETFROM:+0200
TZOFFSETTO:+0100
TZNAME:CET
DTSTART:20211031T010000
END:STANDARD
BEGIN:DAYLIGHT
TZOFFSETFROM:+0100
TZOFFSETTO:+0200
TZNAME:CEST
DTSTART:20220327T010000
END:DAYLIGHT
BEGIN:STANDARD
TZOFFSETFROM:+0200
TZOFFSETTO:+0100
TZNAME:CET
DTSTART:20221030T010000
END:STANDARD
END:VTIMEZONE
BEGIN:VEVENT
DTSTART;VALUE=DATE:20210614
DTEND;VALUE=DATE:20211007
DTSTAMP:20260416T193911
CREATED:20210220T143523Z
LAST-MODIFIED:20210220T143523Z
UID:4499-1623628800-1633564799@majinepcelice.info
SUMMARY:Новац и мерење дужине - Математика
DESCRIPTION:Новац и мерење дужине – контролна вежба
URL:https://majinepcelice.info/event/novac-i-merenje-duzine-matematika/
CATEGORIES:Активности
ATTACH;FMTTYPE=image/png:https://majinepcelice.info/wp-content/uploads/2018/03/kids-bg-small.png
END:VEVENT
BEGIN:VEVENT
DTSTART;VALUE=DATE:20210607
DTEND;VALUE=DATE:20210608
DTSTAMP:20260416T193911
CREATED:20210220T143654Z
LAST-MODIFIED:20210220T143654Z
UID:4501-1623024000-1623110399@majinepcelice.info
SUMMARY:Човек део природе - СВЕТ ОКО НАС
DESCRIPTION:Човек и део природе – конртолни задатак
URL:https://majinepcelice.info/event/covek-deo-prirode-svet-oko-nas/
CATEGORIES:Активности
ATTACH;FMTTYPE=image/png:https://majinepcelice.info/wp-content/uploads/2018/03/kids-bg-small.png
END:VEVENT
BEGIN:VEVENT
DTSTART;VALUE=DATE:20210604
DTEND;VALUE=DATE:20210605
DTSTAMP:20260416T193911
CREATED:20210220T143400Z
LAST-MODIFIED:20210220T143400Z
UID:4497-1622764800-1622851199@majinepcelice.info
SUMMARY:Сабирање и одузимање бројева до 100 - Математика
DESCRIPTION:Сабирање и одузимање бројева до 100 – контролна вежба
URL:https://majinepcelice.info/event/sabiranje-i-oduzimanje-brojeva-do-100-matematika/
CATEGORIES:Активности
ATTACH;FMTTYPE=image/png:https://majinepcelice.info/wp-content/uploads/2018/03/kids-bg-small.png
END:VEVENT
BEGIN:VEVENT
DTSTART;VALUE=DATE:20210422
DTEND;VALUE=DATE:20210423
DTSTAMP:20260416T193911
CREATED:20210220T143134Z
LAST-MODIFIED:20210220T143149Z
UID:4494-1619049600-1619135999@majinepcelice.info
SUMMARY:Упоређивање бројева прве стотине - Матемтика
DESCRIPTION:Упоређивање бројева прве стотине – контролна вежба
URL:https://majinepcelice.info/event/uporezivanje-brojeva-prve-stotine-matemtika/
CATEGORIES:Активности
ATTACH;FMTTYPE=image/png:https://majinepcelice.info/wp-content/uploads/2018/03/kids-bg-small.png
END:VEVENT
BEGIN:VEVENT
DTSTART;VALUE=DATE:20210408
DTEND;VALUE=DATE:20210409
DTSTAMP:20260416T193911
CREATED:20210220T142835Z
LAST-MODIFIED:20210220T142946Z
UID:4491-1617840000-1617926399@majinepcelice.info
SUMMARY:Сабирање и одузимање - Математика
DESCRIPTION:Сабирање и одузимање – контролна вежба
URL:https://majinepcelice.info/event/brojevi-druge-desetice-parni-i-neparni-brojevi-matematika/
CATEGORIES:Активности
ATTACH;FMTTYPE=image/png:https://majinepcelice.info/wp-content/uploads/2018/03/kids-bg-small.png
END:VEVENT
BEGIN:VEVENT
DTSTART;VALUE=DATE:20210331
DTEND;VALUE=DATE:20210401
DTSTAMP:20260416T193911
CREATED:20210220T142711Z
LAST-MODIFIED:20210220T142711Z
UID:4489-1617148800-1617235199@majinepcelice.info
SUMMARY:Нежива природа - СВЕТ ОКО НАС
DESCRIPTION:Нежива природа – контролна вежба
URL:https://majinepcelice.info/event/neziva-priroda-svet-oko-nas/
CATEGORIES:Активности
ATTACH;FMTTYPE=image/png:https://majinepcelice.info/wp-content/uploads/2018/03/kids-bg-small.png
END:VEVENT
BEGIN:VEVENT
DTSTART;VALUE=DATE:20210316
DTEND;VALUE=DATE:20210410
DTSTAMP:20260416T193911
CREATED:20210220T142608Z
LAST-MODIFIED:20210220T142608Z
UID:4487-1615852800-1618012799@majinepcelice.info
SUMMARY:Бројеви друге десетице - Математика
DESCRIPTION:Бројеви друге десетице – контролна вежба
URL:https://majinepcelice.info/event/brojevi-druge-desetice-matematika/
CATEGORIES:Активности
ATTACH;FMTTYPE=image/png:https://majinepcelice.info/wp-content/uploads/2018/03/kids-bg-small.png
END:VEVENT
BEGIN:VEVENT
DTSTART;VALUE=DATE:20210226
DTEND;VALUE=DATE:20210227
DTSTAMP:20260416T193911
CREATED:20210125T084714Z
LAST-MODIFIED:20210125T085340Z
UID:4268-1614297600-1614383999@majinepcelice.info
SUMMARY:Свет око нас - контролни задатак
DESCRIPTION:Човек и материјали
URL:https://majinepcelice.info/event/svet-oko-nas-kontrolni-zadatak-5/
CATEGORIES:Активности
ATTACH;FMTTYPE=image/png:https://majinepcelice.info/wp-content/uploads/2018/03/kids-bg-small.png
END:VEVENT
BEGIN:VEVENT
DTSTART;VALUE=DATE:20210225
DTEND;VALUE=DATE:20210226
DTSTAMP:20260416T193911
CREATED:20210125T084632Z
LAST-MODIFIED:20210125T084954Z
UID:4266-1614211200-1614297599@majinepcelice.info
SUMMARY:Математика - контролни задатак
DESCRIPTION:Својства сабирања и одузимања
URL:https://majinepcelice.info/event/matematika-kontrolni-zadatak-5/
CATEGORIES:Активности
ATTACH;FMTTYPE=image/png:https://majinepcelice.info/wp-content/uploads/2018/03/kids-bg-small.png
END:VEVENT
BEGIN:VEVENT
DTSTART;VALUE=DATE:20210224
DTEND;VALUE=DATE:20210225
DTSTAMP:20260416T193911
CREATED:20210220T111544Z
LAST-MODIFIED:20210220T111544Z
UID:4440-1614124800-1614211199@majinepcelice.info
SUMMARY:'''Дан розе мајица''
DESCRIPTION:Дан розе мајица \nengl. Pink Shirts Day \nОвај дан је познат још под називом Дан борбе против вршњачког злостављања. Дан је посвећен борби против оваквог понашања међу вршњацима. Овај дан обележава се широм света. Име је добио по иницијативи коју  су 2007. године покренули активисти у граду Бервик\, у Канади након што је Чук МекНил\, ученик локалне школе\, злостављан од стране својих другова зато што је у школу дошао у розе мајици. Активисти те акције\, купили су 50 розе мајица и поделили их својим вршњацима. Следеће године градоначелник тог места\, прогласио је тај дан\, као Дан отпора насилницима у знак сећања на тог дечака. Тај пример следиле су бројне друге земље. \n24.02.2021. у нашој школи први пут ћемо обележити овај дан разним активностима.
URL:https://majinepcelice.info/event/dan-roze-majica-2/
CATEGORIES:Активности
ATTACH;FMTTYPE=image/png:https://majinepcelice.info/wp-content/uploads/2018/03/kids-bg-small.png
END:VEVENT
BEGIN:VEVENT
DTSTART;VALUE=DATE:20210224
DTEND;VALUE=DATE:20210225
DTSTAMP:20260416T193911
CREATED:20210217T113244Z
LAST-MODIFIED:20210217T113244Z
UID:4438-1614124800-1614211199@majinepcelice.info
SUMMARY:''Дан розе мајица''
DESCRIPTION:Поштовани родитељи\,\nМеђународни дан борбе против вршњачког насиља се\nобележава сваке године\, последње среде у фебруару\, под називом\n„Дан розе мајица“. Обележавање овог дана има за циљ\nпромовисање толеранције\, емпатије\, поштовања\nразличитости\, развијања сарадње и оснаживање за ненасилно\nрешавање конфликата.\nИдеја о обележавању „Дана розе мајица“ настала је у знак протеста\nзбог инцидента који се догодио 2007. године у једној школи у\nКанади. Наиме\, дечак је у знак подршке тешко оболелој мајци (која\nје боловала од рака дојке)\, обукао розе мајицу. Истог дана\, у\nшколском дворишту\, због те розе мајице\, претукла га је група\nвршњака. У знак подршке чином другарства и саосећања\, већ\nнаредног дана обучени у розе мајице\, појавио се читав разред.\nТиме је розе мајица постала заштитни знак као и подршка сваком\nдетету које доживи насиље. Временом се идеја проширила на цео\nсвет и постала препознатљив симбол иницијативе у борби против\nвршњачког насиља.\nТим за превенцију дискриминације\, насиља\, злостављања и\nзанемаривања својим Годишњим планом превентивних активности\nпланирао је обележавање „Дана розе мајица“ активностима на\nнивоу школе у којима учествују и прваци\, а очекујемо и подршку\nродитеља. \nСрдачан поздрав\, учитељица
URL:https://majinepcelice.info/event/dan-roze-majica/
ATTACH;FMTTYPE=image/png:https://majinepcelice.info/wp-content/uploads/2018/03/kids-bg-small.png
END:VEVENT
BEGIN:VEVENT
DTSTART;VALUE=DATE:20210203
DTEND;VALUE=DATE:20210204
DTSTAMP:20260416T193911
CREATED:20210125T084536Z
LAST-MODIFIED:20210125T085013Z
UID:4264-1612310400-1612396799@majinepcelice.info
SUMMARY:Свет око нас - контролни задатак
DESCRIPTION:Сналажење у времену
URL:https://majinepcelice.info/event/svet-oko-nas-kontrolni-zadatak-4/
CATEGORIES:Активности
ATTACH;FMTTYPE=image/png:https://majinepcelice.info/wp-content/uploads/2018/03/kids-bg-small.png
END:VEVENT
BEGIN:VEVENT
DTSTART;VALUE=DATE:20210127
DTEND;VALUE=DATE:20210128
DTSTAMP:20260416T193911
CREATED:20210126T091705Z
LAST-MODIFIED:20210126T091705Z
UID:4280-1611705600-1611791999@majinepcelice.info
SUMMARY:Свет Сава - тематски час
DESCRIPTION:Тематски час Свети Сава
URL:https://majinepcelice.info/event/svet-sava-tematski-cas/
CATEGORIES:Активности
ATTACH;FMTTYPE=image/png:https://majinepcelice.info/wp-content/uploads/2018/03/kids-bg-small.png
END:VEVENT
BEGIN:VEVENT
DTSTART;VALUE=DATE:20210127
DTEND;VALUE=DATE:20210128
DTSTAMP:20260416T193911
CREATED:20210125T083330Z
LAST-MODIFIED:20210125T085202Z
UID:4246-1611705600-1611791999@majinepcelice.info
SUMMARY:Свети Сава - тематски час
DESCRIPTION:Ученици од 1. до 4. разреда имају тематски час (Свети Сава)\, ликовни радови на задату тему и изложбу ликовних и литерарних радова ученика у холу школе. Све ће бити забележено фотографисањем активности по одељењима. \nУченици ће долазити у две групе и свака група ће имати по један час: \n– Ученици 1/2 разреда у школи ће бити од 11.00 часова до 12.15 часова. Час за ученике А групе почеће од 11.00 часова и трајаће до 11.30 часова\, док ученици Б групе са часом почињу у 11.45 часова и завршавају са наставом у 12.15 часова. \nНакон одржавања тематског часа\, планирано је да ученици од 1. до 4. разреда са својим учитељима обиђу постављену изложбу радова својих другова у холу школе по распореду обиласка.
URL:https://majinepcelice.info/event/sveti-sava-tematski-cas/
CATEGORIES:Активности
ATTACH;FMTTYPE=image/png:https://majinepcelice.info/wp-content/uploads/2018/03/kids-bg-small.png
END:VEVENT
BEGIN:VEVENT
DTSTART;VALUE=DATE:20210120
DTEND;VALUE=DATE:20210121
DTSTAMP:20260416T193911
CREATED:20210125T084315Z
LAST-MODIFIED:20210125T085044Z
UID:4262-1611100800-1611187199@majinepcelice.info
SUMMARY:Математика  - контролни задатак
DESCRIPTION:Писање и читање бројева од 0 до 10\, сабирање и одузимање
URL:https://majinepcelice.info/event/matematika-kontrolni-zadatak-4/
CATEGORIES:Активности
ATTACH;FMTTYPE=image/png:https://majinepcelice.info/wp-content/uploads/2018/03/kids-bg-small.png
END:VEVENT
BEGIN:VEVENT
DTSTART;VALUE=DATE:20201222
DTEND;VALUE=DATE:20201223
DTSTAMP:20260416T193911
CREATED:20210125T082608Z
LAST-MODIFIED:20210125T085222Z
UID:4242-1608595200-1608681599@majinepcelice.info
SUMMARY:Четврти родитељски састанак
DESCRIPTION:Дневни ред: \n1. Анализа остварених резултата у учењу и понашању ученика на крају првог полугодишта\n2. Реализација програма наставе и учења \n*Родитељски састанак одржан онлајн путем родитељима прослеђен мејл са тачкама дневног реда због епидемиолошке ситуације.
URL:https://majinepcelice.info/event/cetvrti-roditeljski-sastanak/
CATEGORIES:Родитељски
ATTACH;FMTTYPE=image/png:https://majinepcelice.info/wp-content/uploads/2018/03/kids-bg-small.png
END:VEVENT
BEGIN:VEVENT
DTSTART;VALUE=DATE:20201218
DTEND;VALUE=DATE:20201219
DTSTAMP:20260416T193911
CREATED:20210125T084218Z
LAST-MODIFIED:20210125T085238Z
UID:4260-1608249600-1608335999@majinepcelice.info
SUMMARY:Српски језик - контролни задатак
DESCRIPTION:Читам и пишем штампана слова
URL:https://majinepcelice.info/event/srpski-jezik-kontrolni-zadatak/
CATEGORIES:Активности
ATTACH;FMTTYPE=image/png:https://majinepcelice.info/wp-content/uploads/2018/03/kids-bg-small.png
END:VEVENT
BEGIN:VEVENT
DTSTART;VALUE=DATE:20201209
DTEND;VALUE=DATE:20201210
DTSTAMP:20260416T193911
CREATED:20210125T084118Z
LAST-MODIFIED:20210125T085404Z
UID:4258-1607472000-1607558399@majinepcelice.info
SUMMARY:Свет око нас - контролни задатак
DESCRIPTION:Ја\, породица и дом
URL:https://majinepcelice.info/event/svet-oko-nas-kontrolni-zadatak-3/
CATEGORIES:Активности
ATTACH;FMTTYPE=image/png:https://majinepcelice.info/wp-content/uploads/2018/03/kids-bg-small.png
END:VEVENT
BEGIN:VEVENT
DTSTART;VALUE=DATE:20201119
DTEND;VALUE=DATE:20201120
DTSTAMP:20260416T193911
CREATED:20210125T082306Z
LAST-MODIFIED:20210125T082306Z
UID:4240-1605744000-1605830399@majinepcelice.info
SUMMARY:Трећи родитељски састанак
DESCRIPTION:Дневни ред другог родитељског састанка: \n1.Успех и дисциплина на крају првог полугодишта ове школске године\n2. Текућа питања \n*Трећи родитељски састанак одржана је онлајн путем због епидемиолошке ситуације. Родитељима послат мејл са тачкама дневног реда.
URL:https://majinepcelice.info/event/treci-roditeljski-sastanak/
CATEGORIES:Родитељски
ATTACH;FMTTYPE=image/png:https://majinepcelice.info/wp-content/uploads/2018/03/kids-bg-small.png
END:VEVENT
BEGIN:VEVENT
DTSTART;TZID=Europe/Belgrade:20201014T080000
DTEND;TZID=Europe/Belgrade:20201014T083000
DTSTAMP:20260416T193911
CREATED:20210125T083937Z
LAST-MODIFIED:20210125T083937Z
UID:4256-1602662400-1602664200@majinepcelice.info
SUMMARY:Свет око нас - контролни задатак
DESCRIPTION:Насеља
URL:https://majinepcelice.info/event/svet-oko-nas-kontrolni-zadatak-2/
CATEGORIES:Активности
ATTACH;FMTTYPE=image/png:https://majinepcelice.info/wp-content/uploads/2018/03/kids-bg-small.png
END:VEVENT
BEGIN:VEVENT
DTSTART;TZID=Europe/Belgrade:20201011T080000
DTEND;TZID=Europe/Belgrade:20201011T083000
DTSTAMP:20260416T193911
CREATED:20210125T083844Z
LAST-MODIFIED:20210125T083844Z
UID:4254-1602403200-1602405000@majinepcelice.info
SUMMARY:Математика - контролни задатак
DESCRIPTION:Бројеви 1\,2\,3\,4\,5\,
URL:https://majinepcelice.info/event/matematika-kontrolni-zadatak-3/
CATEGORIES:Активности
ATTACH;FMTTYPE=image/png:https://majinepcelice.info/wp-content/uploads/2018/03/kids-bg-small.png
END:VEVENT
BEGIN:VEVENT
DTSTART;TZID=Europe/Belgrade:20201007T080000
DTEND;TZID=Europe/Belgrade:20201007T083000
DTSTAMP:20260416T193911
CREATED:20210125T083726Z
LAST-MODIFIED:20210125T083726Z
UID:4252-1602057600-1602059400@majinepcelice.info
SUMMARY:Математика - контролни задатак
DESCRIPTION:Геометрија
URL:https://majinepcelice.info/event/matematika-kontrolni-zadatak-2/
CATEGORIES:Активности
ATTACH;FMTTYPE=image/png:https://majinepcelice.info/wp-content/uploads/2018/03/kids-bg-small.png
END:VEVENT
BEGIN:VEVENT
DTSTART;TZID=Europe/Belgrade:20200930T080000
DTEND;TZID=Europe/Belgrade:20200930T083000
DTSTAMP:20260416T193911
CREATED:20210125T083631Z
LAST-MODIFIED:20210125T083631Z
UID:4250-1601452800-1601454600@majinepcelice.info
SUMMARY:Свет око нас - контролни задатак
DESCRIPTION:Школа
URL:https://majinepcelice.info/event/svet-oko-nas-kontrolni-zadatak/
CATEGORIES:Активности
ATTACH;FMTTYPE=image/png:https://majinepcelice.info/wp-content/uploads/2018/03/kids-bg-small.png
END:VEVENT
BEGIN:VEVENT
DTSTART;TZID=Europe/Belgrade:20200928T080000
DTEND;TZID=Europe/Belgrade:20210928T083000
DTSTAMP:20260416T193911
CREATED:20210125T083508Z
LAST-MODIFIED:20210125T083508Z
UID:4248-1601280000-1632817800@majinepcelice.info
SUMMARY:Математика - контролни задатак
DESCRIPTION:Линија и област
URL:https://majinepcelice.info/event/matematika-kontrolni-zadatak/
CATEGORIES:Активности
ATTACH;FMTTYPE=image/png:https://majinepcelice.info/wp-content/uploads/2018/03/kids-bg-small.png
END:VEVENT
BEGIN:VEVENT
DTSTART;TZID=Europe/Belgrade:20200915T080000
DTEND;TZID=Europe/Belgrade:20200915T083000
DTSTAMP:20260416T193911
CREATED:20210125T082944Z
LAST-MODIFIED:20210125T083048Z
UID:4244-1600156800-1600158600@majinepcelice.info
SUMMARY:Математика - контролни
DESCRIPTION:Предмети у простору и односи међу њима
URL:https://majinepcelice.info/event/matematika-kontrolni/
CATEGORIES:Активности
ATTACH;FMTTYPE=image/png:https://majinepcelice.info/wp-content/uploads/2018/03/kids-bg-small.png
END:VEVENT
BEGIN:VEVENT
DTSTART;VALUE=DATE:20200909
DTEND;VALUE=DATE:20200910
DTSTAMP:20260416T193911
CREATED:20210125T082018Z
LAST-MODIFIED:20210125T082018Z
UID:4238-1599609600-1599695999@majinepcelice.info
SUMMARY:Други родитељски састанак
DESCRIPTION:Дневни ред: \n1. Календар рада за школску 2020/2021. годину\n2. Организација рада у школи\n3. План сарадње са родитељима\n4. Избор представника Савета родитеља\n5. Правилник о дисциплинској одговорности и Правилник о оцењивању ученика\n6. Упознавање са процедуром рада Тима за заштиту од дискриминације\, насиља\, злостављања и занемаривања\n7. Упознавање са правилима понашања у школи за време трајања епидемије вируса Ковид – 19\n8. Распоред писмених и контролних вежби\n9. Текућа питања
URL:https://majinepcelice.info/event/drugi-roditeljski-sastanak/
CATEGORIES:Родитељски
ATTACH;FMTTYPE=image/png:https://majinepcelice.info/wp-content/uploads/2018/03/kids-bg-small.png
END:VEVENT
BEGIN:VEVENT
DTSTART;VALUE=DATE:20200831
DTEND;VALUE=DATE:20200901
DTSTAMP:20260416T193911
CREATED:20210125T081824Z
LAST-MODIFIED:20210125T081824Z
UID:4236-1598832000-1598918399@majinepcelice.info
SUMMARY:Први родитељски састанак
DESCRIPTION:Дневни ред првог родитељског састанка:\n1. Пријем првака\n2. Упознавање родитеља са радом школе у време пандемије
URL:https://majinepcelice.info/event/prvi-roditeljski-sastanak/
CATEGORIES:Родитељски
ATTACH;FMTTYPE=image/png:https://majinepcelice.info/wp-content/uploads/2018/03/kids-bg-small.png
END:VEVENT
BEGIN:VEVENT
DTSTART;TZID=Europe/Belgrade:20190628T170000
DTEND;TZID=Europe/Belgrade:20190628T173000
DTSTAMP:20260416T193911
CREATED:20190628T150002Z
LAST-MODIFIED:20190603T074755Z
UID:1879-1561741200-1561743000@majinepcelice.info
SUMMARY:Подела књижица и родитељски састанак
DESCRIPTION:Подела књижица\, 28. јун 2019. године у 17 часова.
URL:https://majinepcelice.info/event/podela-knjizica-i-roditeljski-sastanak/
LOCATION:ОШ “Франц Прешерн”\, Станка Пауновића-Вељка 45\, Београд\, Насеље Миљаковац\, 11090\, Srbija
CATEGORIES:Родитељски
ATTACH;FMTTYPE=image/png:https://majinepcelice.info/wp-content/uploads/2018/03/kids-bg-small.png
ORGANIZER;CN="%D0%A3%D1%87%D0%B8%D1%82%D0%B5%D1%99%D0%B8%D1%86%D0%B0 %D0%9C%D0%B0%D1%98%D0%B0 %D0%94%D0%B8%D0%BD%D0%B8%D1%9B":MAILTO:majadinic112@gmail.com
END:VEVENT
BEGIN:VEVENT
DTSTART;TZID=Europe/Belgrade:20190606T180000
DTEND;TZID=Europe/Belgrade:20190606T190000
DTSTAMP:20260416T193911
CREATED:20190603T073404Z
LAST-MODIFIED:20190603T074832Z
UID:1875-1559844000-1559847600@majinepcelice.info
SUMMARY:Родитељски састанак
DESCRIPTION:Четвртак\, 6. јун 2019. године у 18 часова!
URL:https://majinepcelice.info/event/roditeljski-sastanak-4/
LOCATION:ОШ “Франц Прешерн”\, Станка Пауновића-Вељка 45\, Београд\, Насеље Миљаковац\, 11090\, Srbija
CATEGORIES:Родитељски
ATTACH;FMTTYPE=image/png:https://majinepcelice.info/wp-content/uploads/2018/03/kids-bg-small.png
ORGANIZER;CN="%D0%A3%D1%87%D0%B8%D1%82%D0%B5%D1%99%D0%B8%D1%86%D0%B0 %D0%9C%D0%B0%D1%98%D0%B0 %D0%94%D0%B8%D0%BD%D0%B8%D1%9B":MAILTO:majadinic112@gmail.com
END:VEVENT
BEGIN:VEVENT
DTSTART;TZID=Europe/Belgrade:20190228T000000
DTEND;TZID=Europe/Belgrade:20190228T173000
DTSTAMP:20260416T193911
CREATED:20190220T181847Z
LAST-MODIFIED:20190220T182208Z
UID:1409-1551312000-1551375000@majinepcelice.info
SUMMARY:РОДИТЕЉСКИ САСТАНАК!
DESCRIPTION:Драги родитњљи\, позивам вас на родитељски састана 28. фебруара 2019. са почетком у 17:30h у нашој учионици. \nХвала унапред!
URL:https://majinepcelice.info/event/roditeljski-sastanak-3/
LOCATION:ОШ “Франц Прешерн”\, Станка Пауновића-Вељка 45\, Београд\, Насеље Миљаковац\, 11090\, Srbija
CATEGORIES:Родитељски
ATTACH;FMTTYPE=image/png:https://majinepcelice.info/wp-content/uploads/2018/03/kids-bg-small.png
ORGANIZER;CN="%D0%A3%D1%87%D0%B8%D1%82%D0%B5%D1%99%D0%B8%D1%86%D0%B0 %D0%9C%D0%B0%D1%98%D0%B0 %D0%94%D0%B8%D0%BD%D0%B8%D1%9B":MAILTO:majadinic112@gmail.com
END:VEVENT
END:VCALENDAR